Package: GenomAutomorphism Version: 1.9.1 Command: /home/biocbuild/R/R/bin/R CMD INSTALL GenomAutomorphism StartedAt: 2025-01-29 20:35:58 -0000 (Wed, 29 Jan 2025) EndedAt: 2025-01-29 20:36:30 -0000 (Wed, 29 Jan 2025) EllapsedTime: 31.8 seconds RetCode: 0 Status: OK