Package: GenomAutomorphism Version: 1.9.1 Command: /Library/Frameworks/R.framework/Resources/bin/R CMD check --install=check:GenomAutomorphism.install-out.txt --library=/Library/Frameworks/R.framework/Resources/library --no-vignettes --timings GenomAutomorphism_1.9.1.tar.gz StartedAt: 2025-02-09 20:54:33 -0500 (Sun, 09 Feb 2025) EndedAt: 2025-02-09 21:01:44 -0500 (Sun, 09 Feb 2025) EllapsedTime: 430.9 seconds RetCode: 0 Status: OK CheckDir: GenomAutomorphism.Rcheck Warnings: 0