Package: GenomAutomorphism Version: 1.9.1 Command: /home/biocbuild/bbs-3.21-bioc/R/bin/R CMD build --keep-empty-dirs --no-resave-data GenomAutomorphism StartedAt: 2025-02-03 17:30:32 -0500 (Mon, 03 Feb 2025) EndedAt: 2025-02-03 17:31:57 -0500 (Mon, 03 Feb 2025) EllapsedTime: 85.1 seconds RetCode: 0 Status: OK PackageFile: GenomAutomorphism_1.9.1.tar.gz PackageFileSize: 1.441 MiB