Package: GenomAutomorphism Version: 1.9.1 Command: /home/biocbuild/bbs-3.21-bioc/R/bin/R CMD check --install=check:GenomAutomorphism.install-out.txt --library=/home/biocbuild/bbs-3.21-bioc/R/site-library --timings GenomAutomorphism_1.9.1.tar.gz StartedAt: 2025-02-03 22:43:41 -0500 (Mon, 03 Feb 2025) EndedAt: 2025-02-03 22:48:03 -0500 (Mon, 03 Feb 2025) EllapsedTime: 262.3 seconds RetCode: 0 Status: OK CheckDir: GenomAutomorphism.Rcheck Warnings: 0