Package: GenomAutomorphism Version: 1.9.1 Command: /home/biocbuild/bbs-3.21-bioc/R/bin/R CMD INSTALL GenomAutomorphism StartedAt: 2025-02-03 15:24:31 -0500 (Mon, 03 Feb 2025) EndedAt: 2025-02-03 15:24:53 -0500 (Mon, 03 Feb 2025) EllapsedTime: 22.4 seconds RetCode: 0 Status: OK