Package: GenomAutomorphism Version: 1.9.1 Command: rm -rf GenomAutomorphism.buildbin-libdir && mkdir GenomAutomorphism.buildbin-libdir && E:\biocbuild\bbs-3.21-bioc\R\bin\R.exe CMD INSTALL --build --library=GenomAutomorphism.buildbin-libdir GenomAutomorphism_1.9.1.tar.gz StartedAt: 2025-02-04 08:02:23 -0500 (Tue, 04 Feb 2025) EndedAt: 2025-02-04 08:04:33 -0500 (Tue, 04 Feb 2025) EllapsedTime: 129.8 seconds RetCode: 0 Status: OK PackageFile: GenomAutomorphism_1.9.1.zip PackageFileSize: 1.826 MiB