Package: GenomAutomorphism Version: 1.9.1 Command: chmod a+r GenomAutomorphism -R && E:\biocbuild\bbs-3.21-bioc\R\bin\R.exe CMD build --keep-empty-dirs --no-resave-data GenomAutomorphism StartedAt: 2025-02-09 18:53:02 -0500 (Sun, 09 Feb 2025) EndedAt: 2025-02-09 18:55:35 -0500 (Sun, 09 Feb 2025) EllapsedTime: 153.6 seconds RetCode: 0 Status: OK PackageFile: GenomAutomorphism_1.9.1.tar.gz PackageFileSize: 1.153 MiB