Package: GenomAutomorphism Version: 1.9.1 Command: E:\biocbuild\bbs-3.21-bioc\R\bin\R.exe CMD check --no-multiarch --install=check:GenomAutomorphism.install-out.txt --library=E:\biocbuild\bbs-3.21-bioc\R\library --no-vignettes --timings GenomAutomorphism_1.9.1.tar.gz StartedAt: 2025-02-10 01:23:55 -0500 (Mon, 10 Feb 2025) EndedAt: 2025-02-10 01:29:36 -0500 (Mon, 10 Feb 2025) EllapsedTime: 341.6 seconds RetCode: 0 Status: OK CheckDir: GenomAutomorphism.Rcheck Warnings: 0