Package: GenomeInfoDb Version: 1.43.4 Command: /Library/Frameworks/R.framework/Resources/bin/R CMD INSTALL GenomeInfoDb StartedAt: 2025-02-09 15:08:32 -0500 (Sun, 09 Feb 2025) EndedAt: 2025-02-09 15:08:51 -0500 (Sun, 09 Feb 2025) EllapsedTime: 19.0 seconds RetCode: 0 Status: OK