Package: GenomeInfoDb Version: 1.43.4 Command: /home/biocbuild/bbs-3.21-bioc/R/bin/R CMD build --keep-empty-dirs --no-resave-data GenomeInfoDb StartedAt: 2025-02-12 17:18:40 -0500 (Wed, 12 Feb 2025) EndedAt: 2025-02-12 17:19:10 -0500 (Wed, 12 Feb 2025) EllapsedTime: 30.0 seconds RetCode: 0 Status: OK PackageFile: GenomeInfoDb_1.43.4.tar.gz PackageFileSize: 3.419 MiB