Package: GenomeInfoDb Version: 1.43.4 Command: rm -rf GenomeInfoDb.buildbin-libdir && mkdir GenomeInfoDb.buildbin-libdir && E:\biocbuild\bbs-3.21-bioc\R\bin\R.exe CMD INSTALL --build --library=GenomeInfoDb.buildbin-libdir GenomeInfoDb_1.43.4.tar.gz StartedAt: 2025-02-10 07:49:01 -0500 (Mon, 10 Feb 2025) EndedAt: 2025-02-10 07:50:20 -0500 (Mon, 10 Feb 2025) EllapsedTime: 79.3 seconds RetCode: 0 Status: OK PackageFile: GenomeInfoDb_1.43.4.zip PackageFileSize: 4.076 MiB