Package: GenomeInfoDb Version: 1.43.4 Command: chmod a+r GenomeInfoDb -R && E:\biocbuild\bbs-3.21-bioc\R\bin\R.exe CMD build --keep-empty-dirs --no-resave-data GenomeInfoDb StartedAt: 2025-02-09 18:53:11 -0500 (Sun, 09 Feb 2025) EndedAt: 2025-02-09 18:54:22 -0500 (Sun, 09 Feb 2025) EllapsedTime: 70.8 seconds RetCode: 0 Status: OK PackageFile: GenomeInfoDb_1.43.4.tar.gz PackageFileSize: 3.42 MiB