Package: GenomeInfoDb Version: 1.43.4 Command: E:\biocbuild\bbs-3.21-bioc\R\bin\R.exe CMD INSTALL GenomeInfoDb StartedAt: 2025-02-09 15:29:55 -0500 (Sun, 09 Feb 2025) EndedAt: 2025-02-09 15:32:58 -0500 (Sun, 09 Feb 2025) EllapsedTime: 183.1 seconds RetCode: 0 Status: OK