Package: GenomicAlignments Version: 1.43.0 Command: /Library/Frameworks/R.framework/Resources/bin/R CMD build --keep-empty-dirs --no-resave-data GenomicAlignments StartedAt: 2025-02-09 16:24:58 -0500 (Sun, 09 Feb 2025) EndedAt: 2025-02-09 16:25:42 -0500 (Sun, 09 Feb 2025) EllapsedTime: 44.5 seconds RetCode: 0 Status: OK PackageFile: GenomicAlignments_1.43.0.tar.gz PackageFileSize: 2.165 MiB