Package: GenomicAlignments Version: 1.43.0 Command: /Library/Frameworks/R.framework/Resources/bin/R CMD build --keep-empty-dirs --no-resave-data GenomicAlignments StartedAt: 2025-02-04 16:48:30 -0500 (Tue, 04 Feb 2025) EndedAt: 2025-02-04 16:50:31 -0500 (Tue, 04 Feb 2025) EllapsedTime: 121.3 seconds RetCode: 0 Status: OK PackageFile: GenomicAlignments_1.43.0.tar.gz PackageFileSize: 2.166 MiB