Package: GenomicAlignments Version: 1.43.0 Command: /Library/Frameworks/R.framework/Resources/bin/R CMD check --install=check:GenomicAlignments.install-out.txt --library=/Library/Frameworks/R.framework/Resources/library --no-vignettes --timings GenomicAlignments_1.43.0.tar.gz StartedAt: 2025-02-09 20:55:03 -0500 (Sun, 09 Feb 2025) EndedAt: 2025-02-09 21:00:32 -0500 (Sun, 09 Feb 2025) EllapsedTime: 328.6 seconds RetCode: 0 Status: OK CheckDir: GenomicAlignments.Rcheck Warnings: 0