Package: GenomicAlignments Version: 1.43.0 Command: /home/biocbuild/bbs-3.21-bioc/R/bin/R CMD check --install=check:GenomicAlignments.install-out.txt --library=/home/biocbuild/bbs-3.21-bioc/R/site-library --timings GenomicAlignments_1.43.0.tar.gz StartedAt: 2025-02-04 22:35:11 -0500 (Tue, 04 Feb 2025) EndedAt: 2025-02-04 22:41:10 -0500 (Tue, 04 Feb 2025) EllapsedTime: 359.4 seconds RetCode: 0 Status: OK CheckDir: GenomicAlignments.Rcheck Warnings: 0