Package: GenomicAlignments Version: 1.43.0 Command: /home/biocbuild/bbs-3.21-bioc/R/bin/R CMD INSTALL GenomicAlignments StartedAt: 2025-02-09 15:24:13 -0500 (Sun, 09 Feb 2025) EndedAt: 2025-02-09 15:24:48 -0500 (Sun, 09 Feb 2025) EllapsedTime: 34.9 seconds RetCode: 0 Status: OK