Package: GenomicAlignments Version: 1.43.0 Command: E:\biocbuild\bbs-3.21-bioc\R\bin\R.exe CMD INSTALL GenomicAlignments StartedAt: 2025-02-09 16:08:24 -0500 (Sun, 09 Feb 2025) EndedAt: 2025-02-09 16:12:25 -0500 (Sun, 09 Feb 2025) EllapsedTime: 240.6 seconds RetCode: 0 Status: OK