Package: GenomicDataCommons Version: 1.31.0 Command: rm -rf GenomicDataCommons.buildbin-libdir && mkdir GenomicDataCommons.buildbin-libdir && /Users/biocbuild/BBS/utils/build-universal.sh GenomicDataCommons_1.31.0.tar.gz /Library/Frameworks/R.framework/Resources/bin/R GenomicDataCommons.buildbin-libdir StartedAt: 2025-02-03 22:51:27 -0500 (Mon, 03 Feb 2025) EndedAt: 2025-02-03 22:51:33 -0500 (Mon, 03 Feb 2025) EllapsedTime: 6.1 seconds RetCode: 0 Status: OK PackageFile: GenomicDataCommons_1.31.0.tgz PackageFileSize: 2.006 MiB