Package: GenomicDataCommons Version: 1.31.0 Command: /Library/Frameworks/R.framework/Resources/bin/R CMD build --keep-empty-dirs --no-resave-data GenomicDataCommons StartedAt: 2025-02-03 17:01:35 -0500 (Mon, 03 Feb 2025) EndedAt: 2025-02-03 17:02:18 -0500 (Mon, 03 Feb 2025) EllapsedTime: 42.5 seconds RetCode: 0 Status: OK PackageFile: GenomicDataCommons_1.31.0.tar.gz PackageFileSize: 2.369 MiB