Package: GenomicDataCommons Version: 1.31.0 Command: /home/biocbuild/R/R/bin/R CMD build --keep-empty-dirs --no-resave-data GenomicDataCommons StartedAt: 2025-01-28 23:06:35 -0000 (Tue, 28 Jan 2025) EndedAt: 2025-01-28 23:08:26 -0000 (Tue, 28 Jan 2025) EllapsedTime: 111.1 seconds RetCode: 0 Status: OK PackageFile: GenomicDataCommons_1.31.0.tar.gz PackageFileSize: 2.487 MiB