Package: GenomicDataCommons Version: 1.31.0 Command: /home/biocbuild/R/R/bin/R CMD check --install=check:GenomicDataCommons.install-out.txt --library=/home/biocbuild/R/R/site-library --no-vignettes --timings GenomicDataCommons_1.31.0.tar.gz StartedAt: 2025-01-28 10:54:28 -0000 (Tue, 28 Jan 2025) EndedAt: 2025-01-28 10:57:07 -0000 (Tue, 28 Jan 2025) EllapsedTime: 159.1 seconds RetCode: 0 Status: WARNINGS CheckDir: GenomicDataCommons.Rcheck Warnings: 5