Package: GenomicDataCommons Version: 1.31.1 Command: rm -rf GenomicDataCommons.buildbin-libdir && mkdir GenomicDataCommons.buildbin-libdir && /Users/biocbuild/BBS/utils/build-universal.sh GenomicDataCommons_1.31.1.tar.gz /Library/Frameworks/R.framework/Resources/bin/R GenomicDataCommons.buildbin-libdir StartedAt: 2025-02-10 00:55:08 -0500 (Mon, 10 Feb 2025) EndedAt: 2025-02-10 00:55:28 -0500 (Mon, 10 Feb 2025) EllapsedTime: 19.5 seconds RetCode: 0 Status: OK PackageFile: GenomicDataCommons_1.31.1.tgz PackageFileSize: 2.005 MiB