Package: GenomicDataCommons Version: 1.31.1 Command: /Library/Frameworks/R.framework/Resources/bin/R CMD check --install=check:GenomicDataCommons.install-out.txt --library=/Library/Frameworks/R.framework/Resources/library --no-vignettes --timings GenomicDataCommons_1.31.1.tar.gz StartedAt: 2025-02-09 20:55:09 -0500 (Sun, 09 Feb 2025) EndedAt: 2025-02-09 20:57:02 -0500 (Sun, 09 Feb 2025) EllapsedTime: 112.5 seconds RetCode: 0 Status: OK CheckDir: GenomicDataCommons.Rcheck Warnings: 0