Package: GenomicDataCommons Version: 1.31.1 Command: /Library/Frameworks/R.framework/Resources/bin/R CMD INSTALL GenomicDataCommons StartedAt: 2025-02-09 15:09:20 -0500 (Sun, 09 Feb 2025) EndedAt: 2025-02-09 15:09:37 -0500 (Sun, 09 Feb 2025) EllapsedTime: 16.4 seconds RetCode: 0 Status: OK