Package: GenomicDataCommons Version: 1.31.1 Command: E:\biocbuild\bbs-3.21-bioc\R\bin\R.exe CMD check --no-multiarch --install=check:GenomicDataCommons.install-out.txt --library=E:\biocbuild\bbs-3.21-bioc\R\library --no-vignettes --timings GenomicDataCommons_1.31.1.tar.gz StartedAt: 2025-02-10 01:24:20 -0500 (Mon, 10 Feb 2025) EndedAt: 2025-02-10 01:26:17 -0500 (Mon, 10 Feb 2025) EllapsedTime: 116.4 seconds RetCode: 0 Status: OK CheckDir: GenomicDataCommons.Rcheck Warnings: 0