Package: GenomicDataCommons Version: 1.31.0 Command: E:\biocbuild\bbs-3.21-bioc\R\bin\R.exe CMD INSTALL GenomicDataCommons StartedAt: 2025-02-03 15:51:54 -0500 (Mon, 03 Feb 2025) EndedAt: 2025-02-03 15:54:35 -0500 (Mon, 03 Feb 2025) EllapsedTime: 160.9 seconds RetCode: 0 Status: OK