Package: GenomicDistributions Version: 1.15.0 Command: /Library/Frameworks/R.framework/Resources/bin/R CMD build --keep-empty-dirs --no-resave-data GenomicDistributions StartedAt: 2025-02-09 16:25:08 -0500 (Sun, 09 Feb 2025) EndedAt: 2025-02-09 16:25:33 -0500 (Sun, 09 Feb 2025) EllapsedTime: 25.3 seconds RetCode: 0 Status: OK PackageFile: GenomicDistributions_1.15.0.tar.gz PackageFileSize: 5.953 MiB