Package: GenomicDistributions Version: 1.15.0 Command: /Library/Frameworks/R.framework/Resources/bin/R CMD check --install=check:GenomicDistributions.install-out.txt --library=/Library/Frameworks/R.framework/Resources/library --no-vignettes --timings GenomicDistributions_1.15.0.tar.gz StartedAt: 2025-02-09 19:22:06 -0500 (Sun, 09 Feb 2025) EndedAt: 2025-02-09 19:23:07 -0500 (Sun, 09 Feb 2025) EllapsedTime: 60.6 seconds RetCode: 0 Status: OK CheckDir: GenomicDistributions.Rcheck Warnings: 0