Package: GenomicDistributions Version: 1.15.0 Command: /home/biocbuild/R/R/bin/R CMD build --keep-empty-dirs --no-resave-data GenomicDistributions StartedAt: 2025-01-28 23:06:43 -0000 (Tue, 28 Jan 2025) EndedAt: 2025-01-28 23:08:26 -0000 (Tue, 28 Jan 2025) EllapsedTime: 103.1 seconds RetCode: 0 Status: OK PackageFile: GenomicDistributions_1.15.0.tar.gz PackageFileSize: 5.249 MiB