Package: GenomicDistributions Version: 1.15.0 Command: /Library/Frameworks/R.framework/Resources/bin/R CMD INSTALL GenomicDistributions StartedAt: 2025-02-09 15:11:26 -0500 (Sun, 09 Feb 2025) EndedAt: 2025-02-09 15:11:46 -0500 (Sun, 09 Feb 2025) EllapsedTime: 20.5 seconds RetCode: 0 Status: OK