Package: GenomicDistributions Version: 1.15.0 Command: /home/biocbuild/bbs-3.21-bioc/R/bin/R CMD check --install=check:GenomicDistributions.install-out.txt --library=/home/biocbuild/bbs-3.21-bioc/R/site-library --timings GenomicDistributions_1.15.0.tar.gz StartedAt: 2025-02-09 22:35:31 -0500 (Sun, 09 Feb 2025) EndedAt: 2025-02-09 22:39:02 -0500 (Sun, 09 Feb 2025) EllapsedTime: 211.2 seconds RetCode: 0 Status: OK CheckDir: GenomicDistributions.Rcheck Warnings: 0