Package: GenomicDistributions Version: 1.15.0 Command: chmod a+r GenomicDistributions -R && E:\biocbuild\bbs-3.21-bioc\R\bin\R.exe CMD build --keep-empty-dirs --no-resave-data GenomicDistributions StartedAt: 2025-02-04 18:56:15 -0500 (Tue, 04 Feb 2025) EndedAt: 2025-02-04 18:58:29 -0500 (Tue, 04 Feb 2025) EllapsedTime: 134.2 seconds RetCode: 0 Status: OK PackageFile: GenomicDistributions_1.15.0.tar.gz PackageFileSize: 4.979 MiB