Package: GenomicDistributions Version: 1.15.0 Command: E:\biocbuild\bbs-3.21-bioc\R\bin\R.exe CMD INSTALL GenomicDistributions StartedAt: 2025-02-09 15:49:47 -0500 (Sun, 09 Feb 2025) EndedAt: 2025-02-09 15:52:14 -0500 (Sun, 09 Feb 2025) EllapsedTime: 147.2 seconds RetCode: 0 Status: OK