Package: GenomicFeatures Version: 1.59.1 Command: rm -rf GenomicFeatures.buildbin-libdir && mkdir GenomicFeatures.buildbin-libdir && /Users/biocbuild/BBS/utils/build-universal.sh GenomicFeatures_1.59.1.tar.gz /Library/Frameworks/R.framework/Resources/bin/R GenomicFeatures.buildbin-libdir StartedAt: 2025-02-12 22:20:49 -0500 (Wed, 12 Feb 2025) EndedAt: 2025-02-12 22:21:05 -0500 (Wed, 12 Feb 2025) EllapsedTime: 16.3 seconds RetCode: 0 Status: OK PackageFile: GenomicFeatures_1.59.1.tgz PackageFileSize: 1.361 MiB