Package: GenomicFeatures Version: 1.59.1 Command: /Library/Frameworks/R.framework/Resources/bin/R CMD build --keep-empty-dirs --no-resave-data GenomicFeatures StartedAt: 2025-02-09 16:25:12 -0500 (Sun, 09 Feb 2025) EndedAt: 2025-02-09 16:25:43 -0500 (Sun, 09 Feb 2025) EllapsedTime: 31.3 seconds RetCode: 0 Status: OK PackageFile: GenomicFeatures_1.59.1.tar.gz PackageFileSize: 556 KiB