Package: GenomicFeatures Version: 1.59.1 Command: /Library/Frameworks/R.framework/Resources/bin/R CMD check --install=check:GenomicFeatures.install-out.txt --library=/Library/Frameworks/R.framework/Resources/library --no-vignettes --timings GenomicFeatures_1.59.1.tar.gz StartedAt: 2025-02-09 19:22:23 -0500 (Sun, 09 Feb 2025) EndedAt: 2025-02-09 19:25:34 -0500 (Sun, 09 Feb 2025) EllapsedTime: 190.1 seconds RetCode: 0 Status: OK CheckDir: GenomicFeatures.Rcheck Warnings: 0