Package: GenomicFeatures Version: 1.59.1 Command: rm -rf GenomicFeatures.buildbin-libdir && mkdir GenomicFeatures.buildbin-libdir && /Users/biocbuild/BBS/utils/build-universal.sh GenomicFeatures_1.59.1.tar.gz /Library/Frameworks/R.framework/Resources/bin/R GenomicFeatures.buildbin-libdir StartedAt: 2025-02-10 00:55:11 -0500 (Mon, 10 Feb 2025) EndedAt: 2025-02-10 00:56:05 -0500 (Mon, 10 Feb 2025) EllapsedTime: 54.1 seconds RetCode: 0 Status: OK PackageFile: GenomicFeatures_1.59.1.tgz PackageFileSize: 1.359 MiB