Package: GenomicFeatures Version: 1.59.1 Command: /Library/Frameworks/R.framework/Resources/bin/R CMD build --keep-empty-dirs --no-resave-data GenomicFeatures StartedAt: 2025-02-09 16:51:58 -0500 (Sun, 09 Feb 2025) EndedAt: 2025-02-09 16:53:29 -0500 (Sun, 09 Feb 2025) EllapsedTime: 91.4 seconds RetCode: 0 Status: OK PackageFile: GenomicFeatures_1.59.1.tar.gz PackageFileSize: 555.9 KiB