Package: GenomicFeatures Version: 1.59.1 Command: /home/biocbuild/bbs-3.21-bioc/R/bin/R CMD check --install=check:GenomicFeatures.install-out.txt --library=/home/biocbuild/bbs-3.21-bioc/R/site-library --timings GenomicFeatures_1.59.1.tar.gz StartedAt: 2025-02-12 22:36:13 -0500 (Wed, 12 Feb 2025) EndedAt: 2025-02-12 22:45:22 -0500 (Wed, 12 Feb 2025) EllapsedTime: 549.6 seconds RetCode: 0 Status: OK CheckDir: GenomicFeatures.Rcheck Warnings: 0