Package: GenomicFeatures Version: 1.59.1 Command: rm -rf GenomicFeatures.buildbin-libdir && mkdir GenomicFeatures.buildbin-libdir && E:\biocbuild\bbs-3.21-bioc\R\bin\R.exe CMD INSTALL --build --library=GenomicFeatures.buildbin-libdir GenomicFeatures_1.59.1.tar.gz StartedAt: 2025-02-10 07:49:10 -0500 (Mon, 10 Feb 2025) EndedAt: 2025-02-10 07:51:03 -0500 (Mon, 10 Feb 2025) EllapsedTime: 113.7 seconds RetCode: 0 Status: OK PackageFile: GenomicFeatures_1.59.1.zip PackageFileSize: 1.357 MiB