Package: GenomicFiles Version: 1.43.0 Command: rm -rf GenomicFiles.buildbin-libdir && mkdir GenomicFiles.buildbin-libdir && /Users/biocbuild/BBS/utils/build-universal.sh GenomicFiles_1.43.0.tar.gz /Library/Frameworks/R.framework/Resources/bin/R GenomicFiles.buildbin-libdir StartedAt: 2025-02-09 22:15:36 -0500 (Sun, 09 Feb 2025) EndedAt: 2025-02-09 22:15:54 -0500 (Sun, 09 Feb 2025) EllapsedTime: 18.3 seconds RetCode: 0 Status: OK PackageFile: GenomicFiles_1.43.0.tgz PackageFileSize: 1.006 MiB