Package: GenomicFiles Version: 1.43.0 Command: /Library/Frameworks/R.framework/Resources/bin/R CMD build --keep-empty-dirs --no-resave-data GenomicFiles StartedAt: 2025-02-09 16:25:18 -0500 (Sun, 09 Feb 2025) EndedAt: 2025-02-09 16:25:48 -0500 (Sun, 09 Feb 2025) EllapsedTime: 30.3 seconds RetCode: 0 Status: OK PackageFile: GenomicFiles_1.43.0.tar.gz PackageFileSize: 712.6 KiB