Package: GenomicFiles Version: 1.43.0 Command: /Library/Frameworks/R.framework/Resources/bin/R CMD INSTALL GenomicFiles StartedAt: 2025-02-04 15:11:04 -0500 (Tue, 04 Feb 2025) EndedAt: 2025-02-04 15:11:21 -0500 (Tue, 04 Feb 2025) EllapsedTime: 16.6 seconds RetCode: 0 Status: OK