Package: GenomicFiles Version: 1.43.0 Command: /home/biocbuild/R/R/bin/R CMD build --keep-empty-dirs --no-resave-data GenomicFiles StartedAt: 2025-01-28 23:07:07 -0000 (Tue, 28 Jan 2025) EndedAt: 2025-01-28 23:34:22 -0000 (Tue, 28 Jan 2025) EllapsedTime: 1635.6 seconds RetCode: 0 Status: OK PackageFile: GenomicFiles_1.43.0.tar.gz PackageFileSize: 736.6 KiB