Package: GenomicFiles Version: 1.43.0 Command: /home/biocbuild/R/R/bin/R CMD INSTALL GenomicFiles StartedAt: 2025-01-29 19:56:27 -0000 (Wed, 29 Jan 2025) EndedAt: 2025-01-29 19:57:24 -0000 (Wed, 29 Jan 2025) EllapsedTime: 57.0 seconds RetCode: 0 Status: OK