Package: GenomicFiles Version: 1.43.0 Command: rm -rf GenomicFiles.buildbin-libdir && mkdir GenomicFiles.buildbin-libdir && /Users/biocbuild/BBS/utils/build-universal.sh GenomicFiles_1.43.0.tar.gz /Library/Frameworks/R.framework/Resources/bin/R GenomicFiles.buildbin-libdir StartedAt: 2025-02-10 00:55:12 -0500 (Mon, 10 Feb 2025) EndedAt: 2025-02-10 00:56:12 -0500 (Mon, 10 Feb 2025) EllapsedTime: 59.9 seconds RetCode: 0 Status: OK PackageFile: GenomicFiles_1.43.0.tgz PackageFileSize: 1.005 MiB