Package: GenomicFiles Version: 1.43.0 Command: /Library/Frameworks/R.framework/Resources/bin/R CMD check --install=check:GenomicFiles.install-out.txt --library=/Library/Frameworks/R.framework/Resources/library --no-vignettes --timings GenomicFiles_1.43.0.tar.gz StartedAt: 2025-02-09 20:55:31 -0500 (Sun, 09 Feb 2025) EndedAt: 2025-02-09 21:02:40 -0500 (Sun, 09 Feb 2025) EllapsedTime: 429.5 seconds RetCode: 0 Status: WARNINGS CheckDir: GenomicFiles.Rcheck Warnings: 1