Package: GenomicFiles Version: 1.43.0 Command: /Library/Frameworks/R.framework/Resources/bin/R CMD INSTALL GenomicFiles StartedAt: 2025-02-09 15:21:16 -0500 (Sun, 09 Feb 2025) EndedAt: 2025-02-09 15:22:16 -0500 (Sun, 09 Feb 2025) EllapsedTime: 59.1 seconds RetCode: 0 Status: OK